BEGIN:VCALENDAR
VERSION:2.0
PRODID:-//Washoe County Golf Club - ECPv6.15.18//NONSGML v1.0//EN
CALSCALE:GREGORIAN
METHOD:PUBLISH
X-ORIGINAL-URL:https://www.washoegolf.org
X-WR-CALDESC:Events for Washoe County Golf Club
REFRESH-INTERVAL;VALUE=DURATION:PT1H
X-Robots-Tag:noindex
X-PUBLISHED-TTL:PT1H
BEGIN:VTIMEZONE
TZID:America/Los_Angeles
BEGIN:DAYLIGHT
TZOFFSETFROM:-0800
TZOFFSETTO:-0700
TZNAME:PDT
DTSTART:20240310T100000
END:DAYLIGHT
BEGIN:STANDARD
TZOFFSETFROM:-0700
TZOFFSETTO:-0800
TZNAME:PST
DTSTART:20241103T090000
END:STANDARD
BEGIN:DAYLIGHT
TZOFFSETFROM:-0800
TZOFFSETTO:-0700
TZNAME:PDT
DTSTART:20250309T100000
END:DAYLIGHT
BEGIN:STANDARD
TZOFFSETFROM:-0700
TZOFFSETTO:-0800
TZNAME:PST
DTSTART:20251102T090000
END:STANDARD
BEGIN:DAYLIGHT
TZOFFSETFROM:-0800
TZOFFSETTO:-0700
TZNAME:PDT
DTSTART:20260308T100000
END:DAYLIGHT
BEGIN:STANDARD
TZOFFSETFROM:-0700
TZOFFSETTO:-0800
TZNAME:PST
DTSTART:20261101T090000
END:STANDARD
END:VTIMEZONE
BEGIN:VEVENT
DTSTART;TZID=America/Los_Angeles:20250820T070000
DTEND;TZID=America/Los_Angeles:20250820T083000
DTSTAMP:20260425T135528
CREATED:20250306T204329Z
LAST-MODIFIED:20250608T210430Z
UID:10000620-1755673200-1755678600@www.washoegolf.org
SUMMARY:RMGC Senior
DESCRIPTION:Tee Times
URL:https://www.washoegolf.org/event/rmgc-senior-3/
END:VEVENT
BEGIN:VEVENT
DTSTART;TZID=America/Los_Angeles:20250820T173000
DTEND;TZID=America/Los_Angeles:20250820T200000
DTSTAMP:20260425T135528
CREATED:20250306T193738Z
LAST-MODIFIED:20250306T193738Z
UID:10000500-1755711000-1755720000@www.washoegolf.org
SUMMARY:Wednesday Night League
DESCRIPTION:5:30pm Shogtun. 9 Holes.
URL:https://www.washoegolf.org/event/wednesday-night-league-3/2025-08-20/
END:VEVENT
END:VCALENDAR